BEGIN:VCALENDAR
VERSION:2.0
PRODID:-//wp-events-plugin.com//7.2.3.1//EN
TZID:America/Indiana/Indianapolis
X-WR-TIMEZONE:America/Indiana/Indianapolis
BEGIN:VEVENT
UID:3596@inspiresmall.biz
DTSTART;TZID=America/Indiana/Indianapolis:20250821T150000
DTEND;TZID=America/Indiana/Indianapolis:20250821T170000
DTSTAMP:20250819T180429Z
URL:https://www.inspiresmall.biz/events/ttr-thankful-thursday-at-cohatch-z
 ionsville/
SUMMARY:TTR Thankful Thursday at COhatch Zionsville
DESCRIPTION:You are invited to join us for our third fun\, interactive and 
 engaging networking event of 2025!\n\nMark your calendars and register now
  for Thursday\, August 21\, 2025 from 3-5 pm at COHatch in Zionsville!\n\n
 We will be learning about the Mind-Body Connection to our health and welln
 ess and how we are all pieces of the puzzle to a healthy thriving communit
 y.\n\nWe will also be sharing about about our upcoming Health and Wellness
  Fair on Friday\, October 10\,2025\, at Anchor Health Chiropractic in Nobl
 esville!\n\nDon’t Miss This!
ATTACH;FMTTYPE=image/jpeg:https://i0.wp.com/www.inspiresmall.biz/wp-conten
 t/uploads/2025/08/Thankful-Thursdays-8.21.25.png?fit=940%2C788&ssl=1
CATEGORIES:Business,Community,Networking
LOCATION:COhatch Zionsville\, 75 North Main Street\, Zionsville\, IN\, 4607
 7\, United States
X-APPLE-STRUCTURED-LOCATION;VALUE=URI;X-ADDRESS=75 North Main Street\, Zion
 sville\, IN\, 46077\, United States;X-APPLE-RADIUS=100;X-TITLE=COhatch Zio
 nsville:geo:0,0
END:VEVENT
BEGIN:VTIMEZONE
TZID:America/Indiana/Indianapolis
X-LIC-LOCATION:America/Indiana/Indianapolis
BEGIN:DAYLIGHT
DTSTART:20250309T030000
TZOFFSETFROM:-0500
TZOFFSETTO:-0400
TZNAME:EDT
END:DAYLIGHT
END:VTIMEZONE
END:VCALENDAR