BEGIN:VCALENDAR
VERSION:2.0
PRODID:-//wp-events-plugin.com//7.2.3.1//EN
TZID:America/Indiana/Indianapolis
X-WR-TIMEZONE:America/Indiana/Indianapolis
BEGIN:VEVENT
UID:3598@inspiresmall.biz
DTSTART;TZID=America/Indiana/Indianapolis:20250827T190000
DTEND;TZID=America/Indiana/Indianapolis:20250827T200000
DTSTAMP:20250819T180448Z
URL:https://www.inspiresmall.biz/events/ttr-presents-i-could-sell-more-if-
 with-greg-peiffer-business-coach/
SUMMARY:TTR Presents – I Could Sell More If… with Greg Peiffer\, Busine
 ss Coach
DESCRIPTION:You know the feeling:\n\nYou’ve got leads\, but deals stall o
 ut.\n\nProspects ghost you after “great” conversations.\n\nYou’re di
 scounting more than you’d like just to close.\n\nThe cycle drags on… a
 nd on… and on.\n\nYou keep hearing “maybe\,” but never “no”—an
 d rarely “yes.”\n\nIf you’ve ever thought\, “I could sell more if 
 it weren’t for my prospects\,” this session is for you!\n\nIn this fac
 e pace\, interactive event you’ll walk away with:\n\nA clear diagnosis o
 f what’s actually causing friction in your sales process\n\nTools to shi
 ft conversations toward honesty\, action\, and outcomes\n\nClarity of the 
 hidden weaknesses that could be holding you back (even if your process is 
 solid)\n\nThis isn’t fluff or motivational hype. It’s a practical rese
 t for sellers\, founders\, and leaders who are ready to take control of th
 e sales conversation—and get back to closing business without all the dr
 ama.\n\nRegister Now!\n\nhttps://www.eventbrite.com/e/ttr-presents-i-could
 -sell-more-if-with-greg-peiffer-business-coach-tickets-1553585980489?aff=o
 ddtdtcreator\n\nGreg Peiffer is an experienced sales and business coach wi
 th a rich background in helping both salespeople and business owners eleva
 te their performance and reach their goals.\n\nWith over a decade of exper
 tise in diverse industries\, Greg has honed a deep understanding of the ch
 allenges faced by sales teams and entrepreneurs. He has successfully mento
 red and coached individuals at all levels\, driving growth and improving s
 ales strategies.\n\nThrough personalized coaching\, training programs\, an
 d actionable insights\, Greg equips sales professionals and business owner
 s with the tools they need to thrive in an ever-evolving marketplace.
ATTACH;FMTTYPE=image/jpeg:https://i0.wp.com/www.inspiresmall.biz/wp-conten
 t/uploads/2025/08/GregP-TTR-Presents-8.27.25-Eventbrite-Graphic.png?fit=19
 20%2C1080&ssl=1
END:VEVENT
BEGIN:VTIMEZONE
TZID:America/Indiana/Indianapolis
X-LIC-LOCATION:America/Indiana/Indianapolis
BEGIN:DAYLIGHT
DTSTART:20250309T030000
TZOFFSETFROM:-0500
TZOFFSETTO:-0400
TZNAME:EDT
END:DAYLIGHT
END:VTIMEZONE
END:VCALENDAR