BEGIN:VCALENDAR
VERSION:2.0
PRODID:-//wp-events-plugin.com//7.2.3.1//EN
TZID:America/Indiana/Indianapolis
X-WR-TIMEZONE:America/Indiana/Indianapolis
BEGIN:VEVENT
UID:3604@inspiresmall.biz
DTSTART;TZID=America/Indiana/Indianapolis:20251211T190000
DTEND;TZID=America/Indiana/Indianapolis:20251211T200000
DTSTAMP:20251209T200955Z
URL:https://www.inspiresmall.biz/events/ttr-presents-aim-for-success-with-
 christiane-david-greenwealth-legacy/
SUMMARY:TTR Presents- Aim For Success with Christiane David &amp\; GreenWea
 lth Legacy!
DESCRIPTION:Goal setting is an essential step to turning our dreams into re
 ality.\n\nSetting clear and compelling goals provides direction and motiva
 tion to propel you forward.\n\nLet’s have a refreshing conversation abou
 t how to set goals!\n\nWe’re four sisters helping driven women like you 
 – tired of money stress – break free from debt\, master your credit\, 
 build a real money plan\, and shift your money mindset for good.\n\nTired 
 of feeling lost\, unsure\, and struggling financially?\nYou’ve always wa
 nted to start an emergency fund but you are unsure how to do it while payi
 ng down debt. Well\, No more feeling overwhelmed and burdened by debt.\n\n
 We will Empower you to confidently walk your path to financial independenc
 e and abundance.\n\nThrough one-on-one coaching\, insightful resources\, a
 nd a community that supports each other like leaves on a tree\, we work to
 gether to establish a personalized saving plan and create the life you dre
 am of – sustainably\, honestly\, and with a sprinkle of fun.\n\nRegister
  here and we will see you on Thursday\, Dec 11 at 7 pm on Zoom!\nYou will 
 get the Zoom info before the call on Thursday evening!
ATTACH;FMTTYPE=image/jpeg:https://i0.wp.com/www.inspiresmall.biz/wp-conten
 t/uploads/2025/12/TTR-Presents.GreenWealth-Legacy.png?fit=940%2C788&ssl=1
CATEGORIES:Business,Family,Networking,Webinar
END:VEVENT
BEGIN:VTIMEZONE
TZID:America/Indiana/Indianapolis
X-LIC-LOCATION:America/Indiana/Indianapolis
BEGIN:STANDARD
DTSTART:20251102T010000
TZOFFSETFROM:-0400
TZOFFSETTO:-0500
TZNAME:EST
END:STANDARD
END:VTIMEZONE
END:VCALENDAR