BEGIN:VCALENDAR
VERSION:2.0
PRODID:-//wp-events-plugin.com//7.2.3.1//EN
TZID:America/Indiana/Indianapolis
X-WR-TIMEZONE:America/Indiana/Indianapolis
BEGIN:VEVENT
UID:3599@inspiresmall.biz
DTSTART;TZID=America/Indiana/Indianapolis:20250903T160000
DTEND;TZID=America/Indiana/Indianapolis:20250903T170000
DTSTAMP:20250819T180507Z
URL:https://www.inspiresmall.biz/events/ttr-networking-wedding-professiona
 ls-meeting/
SUMMARY:TTR Networking Wedding Professionals Meeting
DESCRIPTION:Are you ready to grow your business\, discover the latest trend
 s\, and connect with other wedding professionals?\n\nTTR Networking ( www.
 totherescuein.com ) has launched a Wedding Professionals Group and we woul
 d love to have you join us for our next meeting \,Wednesday\, Sept 3 at 4 
 pm- 5 pm on Zoom! This group is not industry exclusive. If you are a day o
 f wedding vendor including a wedding planner\, travel agent\, photographer
 \, videographer\, wedding musician\, jewelry designer\, florist\, caterer\
 , venue owners\, and a dedicated professional looking to build meaningful 
 relationships and enhance your services then we want to meet you!.\n\nWe a
 re working to connect and build relationships with our trusted referral pa
 rtners!\n\nWe look forward to connecting with you and fostering a stronger
 \, more collaborative wedding industry together!\n\nRegister here today an
 d get the Zoom information before the call-
ATTACH;FMTTYPE=image/jpeg:https://i0.wp.com/www.inspiresmall.biz/wp-conten
 t/uploads/2025/08/Wedding-Professionals-Zoom-Graphic-Sept-3.2025.png?fit=1
 920%2C1080&ssl=1
CATEGORIES:Business,Charity &amp; Causes,Community,Family,Home &amp;
 Lifestyle,Networking
END:VEVENT
BEGIN:VTIMEZONE
TZID:America/Indiana/Indianapolis
X-LIC-LOCATION:America/Indiana/Indianapolis
BEGIN:DAYLIGHT
DTSTART:20250309T030000
TZOFFSETFROM:-0500
TZOFFSETTO:-0400
TZNAME:EDT
END:DAYLIGHT
END:VTIMEZONE
END:VCALENDAR