BEGIN:VCALENDAR
VERSION:2.0
PRODID:-//wp-events-plugin.com//7.2.3.1//EN
TZID:America/Indiana/Indianapolis
X-WR-TIMEZONE:America/Indiana/Indianapolis
BEGIN:VEVENT
UID:1755@inspiresmall.biz
DTSTART;TZID=America/Indiana/Indianapolis:20220209T160000
DTEND;TZID=America/Indiana/Indianapolis:20220209T170000
DTSTAMP:20211221T202258Z
URL:https://www.inspiresmall.biz/events/ttr-networking-mastermind-online-2
 022-02-09/
SUMMARY:TTR Networking - Mastermind Online
DESCRIPTION:In order to achieve maximum results in any area of our life we 
 need to be constantly growing and learning with new ways of thinking\, bei
 ng and doing. Without outside support we tend to get “stuck” in doing 
 things the same way we’ve always done them\, or the same way everyone el
 se in our industry does. By assembling a group of people from different in
 dustries and professions\, you end up with different perspectives and fres
 h new ideas that may have never been thought of before. In order to think 
 “outside the box” and stay “outside the box” Mastermind Groups are
  one of the best and most successful ways to do so.
ATTACH;FMTTYPE=image/jpeg:https://i0.wp.com/www.inspiresmall.biz/wp-conten
 t/uploads/2021/12/Mastermind-Logo-final-4.29.20-300x111-1.jpg?fit=300%2C11
 1&ssl=1
CATEGORIES:Networking
END:VEVENT
BEGIN:VTIMEZONE
TZID:America/Indiana/Indianapolis
X-LIC-LOCATION:America/Indiana/Indianapolis
BEGIN:STANDARD
DTSTART:20211107T010000
TZOFFSETFROM:-0400
TZOFFSETTO:-0500
TZNAME:EST
END:STANDARD
END:VTIMEZONE
END:VCALENDAR