BEGIN:VCALENDAR
VERSION:2.0
PRODID:-//wp-events-plugin.com//7.2.3.1//EN
TZID:America/Indiana/Indianapolis
X-WR-TIMEZONE:America/Indiana/Indianapolis
BEGIN:VEVENT
UID:3580@inspiresmall.biz
DTSTART;TZID=America/Indiana/Indianapolis:20250507T140000
DTEND;TZID=America/Indiana/Indianapolis:20250507T143000
DTSTAMP:20250422T170600Z
URL:https://www.inspiresmall.biz/events/the-social-circle-spring-visitor-d
 ay-wed-may-7-2-3-pm-parks-place-pub/
SUMMARY:The Social Circle Spring Visitor Day- Wed May 7\, 2-3 pm\, Parks Pl
 ace Pub!
DESCRIPTION:Welcome to The Social Circle Networking Group Spring Visitor’
 s Day!\nIf you are looking for a networking group that’s is anything but
  ordinary\, please join us! We are a charismatic and servant-minded group\
 , looking to enrich not only the lives (and businesses) of our members\, b
 ut also our community. As committed and passionate business leaders\, we a
 re here to help you grow.\nThis Visitor’s Day is all about getting to kn
 ow each other and making warm introductions!\nWe even have a few door priz
 es to give away!\nWe are an industry-exclusive networking group\, so some 
 popular positions may already be filled. However\, we can connect you to o
 ther groups that may have openings. We are VERY focused on growing each ot
 her’s businesses and promoting our businesses.
ATTACH;FMTTYPE=image/jpeg:https://i0.wp.com/www.inspiresmall.biz/wp-conten
 t/uploads/2025/04/The-Social-Circle.canva-vd-5.7.25png.png?fit=940%2C788&s
 sl=1
CATEGORIES:Business,Networking
LOCATION:Parks Place Pub\, 8594 116TH St\, Fishers\, IN\, 46038\, United St
 ates
X-APPLE-STRUCTURED-LOCATION;VALUE=URI;X-ADDRESS=8594 116TH St\, Fishers\, I
 N\, 46038\, United States;X-APPLE-RADIUS=100;X-TITLE=Parks Place Pub:geo:0
 ,0
END:VEVENT
BEGIN:VTIMEZONE
TZID:America/Indiana/Indianapolis
X-LIC-LOCATION:America/Indiana/Indianapolis
BEGIN:DAYLIGHT
DTSTART:20250309T030000
TZOFFSETFROM:-0500
TZOFFSETTO:-0400
TZNAME:EDT
END:DAYLIGHT
END:VTIMEZONE
END:VCALENDAR