BEGIN:VCALENDAR
VERSION:2.0
PRODID:-//wp-events-plugin.com//7.2.3.1//EN
TZID:America/Indiana/Indianapolis
X-WR-TIMEZONE:America/Indiana/Indianapolis
BEGIN:VEVENT
UID:3605@inspiresmall.biz
DTSTART;TZID=America/Indiana/Indianapolis:20251211T133000
DTEND;TZID=America/Indiana/Indianapolis:20251211T143000
DTSTAMP:20251209T200934Z
URL:https://www.inspiresmall.biz/events/sarahcare-ttr-networkings-2025-hol
 iday-cookie-exchange/
SUMMARY:SarahCare & TTR Networking’s 2025 Holiday Cookie Exchange!
DESCRIPTION:You are Cordially Invited To Join Us at SarahCare Indy for a Ho
 liday Open House and Cookie Exchange anytime between 1:30 pm and 2:30 pm o
 n Thursday\, Dec 11. 2025!!\n\nThe holidays are here and it’s time to ne
 twork! This event will be full of networking\, holiday finger foods and to
 urs of SarahCare Indy!\n\nBring your favorite holiday cookies in packages 
 of 6 and at least 6 packages.\n\nHow you package them is up to you!\n\nSar
 ahCare of Indianapolis is a warm\, safe\, and engaging environment that pr
 ovides social/medical daytime care for adults 18 and over living with a li
 fe-alternating diagnosis. These diagnoses might include physical dependenc
 e on someone else for daily living activities\, memory impairment\, after-
 effects of a stroke\, Parkinson’s Disease\, depression\, and other situa
 tions where someone requires a regular caregiver. Our person-centered prog
 rams bring back the feeling of community and dignity to a population that 
 all too often experiences isolation and loneliness.\n\nTTR Networking is s
 o happy to have SarahCare- Indy in our membership and we hope everyone wil
 l stop by on Thursday\, Dec 11\, between 1:30 pm and 2:30 pm to take a tou
 r!\n\nThis event is free and open to everyone!
ATTACH;FMTTYPE=image/jpeg:https://i0.wp.com/www.inspiresmall.biz/wp-conten
 t/uploads/2025/12/Cookie-Exchange-12.11.25qrcode_totherescuein.com-3.png?f
 it=940%2C788&ssl=1
CATEGORIES:Business,Community,Networking
LOCATION:Sarah Care Indy\, 8405 E 96th St\, Indianapolis\, IN\, 46240\, Uni
 ted States
X-APPLE-STRUCTURED-LOCATION;VALUE=URI;X-ADDRESS=8405 E 96th St\, Indianapol
 is\, IN\, 46240\, United States;X-APPLE-RADIUS=100;X-TITLE=Sarah Care Indy
 :geo:0,0
END:VEVENT
BEGIN:VTIMEZONE
TZID:America/Indiana/Indianapolis
X-LIC-LOCATION:America/Indiana/Indianapolis
BEGIN:STANDARD
DTSTART:20251102T010000
TZOFFSETFROM:-0400
TZOFFSETTO:-0500
TZNAME:EST
END:STANDARD
END:VTIMEZONE
END:VCALENDAR