BEGIN:VCALENDAR
VERSION:2.0
PRODID:-//wp-events-plugin.com//7.2.3.1//EN
TZID:America/Indiana/Indianapolis
X-WR-TIMEZONE:America/Indiana/Indianapolis
BEGIN:VEVENT
UID:2853@inspiresmall.biz
DTSTART;TZID=America/Indiana/Indianapolis:20230328T090000
DTEND;TZID=America/Indiana/Indianapolis:20230328T103000
DTSTAMP:20230104T184554Z
URL:https://www.inspiresmall.biz/events/roadmap-to-unlimited-referrals-cla
 ss-2023-03-28/
SUMMARY:Roadmap to Unlimited Referrals Class
DESCRIPTION:
CATEGORIES:Business,Webinar
LOCATION:http://www.wb-learning.com
END:VEVENT
BEGIN:VTIMEZONE
TZID:America/Indiana/Indianapolis
X-LIC-LOCATION:America/Indiana/Indianapolis
BEGIN:DAYLIGHT
DTSTART:20230312T030000
TZOFFSETFROM:-0500
TZOFFSETTO:-0400
TZNAME:EDT
END:DAYLIGHT
END:VTIMEZONE
END:VCALENDAR