BEGIN:VCALENDAR
VERSION:2.0
PRODID:-//wp-events-plugin.com//7.2.3.1//EN
TZID:America/Indiana/Indianapolis
X-WR-TIMEZONE:America/Indiana/Indianapolis
BEGIN:VEVENT
UID:3584@inspiresmall.biz
DTSTART;TZID=America/Indiana/Indianapolis:20250529T173000
DTEND;TZID=America/Indiana/Indianapolis:20250529T183000
DTSTAMP:20250515T145007Z
URL:https://www.inspiresmall.biz/events/rejuvenate-with-movement-somatic-m
 ovement/
SUMMARY:Rejuvenate with Movement: Somatic Movement
DESCRIPTION:Join us for an invigorating session.  Learn to move mindfully a
 nd improve body awareness. Experience sequins designed to reconnect your m
 ind and body\, promote relaxation\, and reduce stress. \n\nAny level of fi
 tness can benefit. No experience required!\n\nMay 29 @ 5:30pm\nMay 31 @ 10
 am\n\nhttps://clients.mindbodyonline.com/classic/ws?studioid=5743101&amp\;
 stype=-7&amp\;sTG=28&amp\;sVT=40&amp\;sView=day&amp\;sLoc=1&amp\;sTrn=1000
 00016&amp\;date=05/29/25
CATEGORIES:Community
END:VEVENT
BEGIN:VTIMEZONE
TZID:America/Indiana/Indianapolis
X-LIC-LOCATION:America/Indiana/Indianapolis
BEGIN:DAYLIGHT
DTSTART:20250309T030000
TZOFFSETFROM:-0500
TZOFFSETTO:-0400
TZNAME:EDT
END:DAYLIGHT
END:VTIMEZONE
END:VCALENDAR