BEGIN:VCALENDAR
VERSION:2.0
PRODID:-//wp-events-plugin.com//7.2.3.1//EN
TZID:America/Indiana/Indianapolis
X-WR-TIMEZONE:America/Indiana/Indianapolis
BEGIN:VEVENT
UID:3339@inspiresmall.biz
DTSTART;TZID=America/Indiana/Indianapolis:20250516T150000
DTEND;TZID=America/Indiana/Indianapolis:20250516T180000
DTSTAMP:20241212T070556Z
URL:https://www.inspiresmall.biz/events/race-to-support-small-business-2/
SUMMARY:Race to Support Small Business
DESCRIPTION:Don’t miss this opportunity to network with small business le
 aders\, share your expertise\, and be part of a community dedicated to fos
 tering success.
ATTACH;FMTTYPE=image/jpeg:https://i0.wp.com/www.inspiresmall.biz/wp-conten
 t/uploads/2024/12/2024-12-4th-annual-rtssb.jpg?fit=1920%2C1080&ssl=1
CATEGORIES:Networking
LOCATION:Office Evolution - Carmel\, 550 Congressional Blvd\, Suite 350\, C
 armel\, Indiana\, 46032\, United States
X-APPLE-STRUCTURED-LOCATION;VALUE=URI;X-ADDRESS=550 Congressional Blvd\, Su
 ite 350\, Carmel\, Indiana\, 46032\, United States;X-APPLE-RADIUS=100;X-TI
 TLE=Office Evolution - Carmel:geo:0,0
END:VEVENT
BEGIN:VTIMEZONE
TZID:America/Indiana/Indianapolis
X-LIC-LOCATION:America/Indiana/Indianapolis
BEGIN:DAYLIGHT
DTSTART:20250309T030000
TZOFFSETFROM:-0500
TZOFFSETTO:-0400
TZNAME:EDT
END:DAYLIGHT
END:VTIMEZONE
END:VCALENDAR