BEGIN:VCALENDAR
VERSION:2.0
PRODID:-//wp-events-plugin.com//7.2.3.1//EN
TZID:America/Indiana/Indianapolis
X-WR-TIMEZONE:America/Indiana/Indianapolis
BEGIN:VEVENT
UID:2883@inspiresmall.biz
DTSTART;TZID=America/Indiana/Indianapolis:20230421T083000
DTEND;TZID=America/Indiana/Indianapolis:20230421T094500
DTSTAMP:20230411T183825Z
URL:https://www.inspiresmall.biz/events/open-networking-at-the-haverstick-
 hosted-by-westfield-networking-ttr-networking/
SUMMARY:Open Networking at The Haverstick Hosted By Westfield Networking &a
 mp\; TTR Networking!
DESCRIPTION:Welcome to Westfield Networking Opening Networking! If you are 
 looking for a networking group that’s all about relationships please joi
 n us! We are a servant-minded group\, looking to enrich not only the lives
  (and businesses) of our members\, but also our community. As committed an
 d passionate business leaders\, we are here to help you grow.\nWe look for
 ward to meeting you at The Haverstick!!
ATTACH;FMTTYPE=image/jpeg:https://i0.wp.com/www.inspiresmall.biz/wp-conten
 t/uploads/2023/04/4-21-23-Westfield-Open-Networking-Event.png?fit=1280%2C7
 20&ssl=1
CATEGORIES:Business,Networking
LOCATION:The Haverstick\, 9111 Haverstick Rd\, Indianapolis\, IN\, 46240\, 
 United States
X-APPLE-STRUCTURED-LOCATION;VALUE=URI;X-ADDRESS=9111 Haverstick Rd\, Indian
 apolis\, IN\, 46240\, United States;X-APPLE-RADIUS=100;X-TITLE=The Haverst
 ick:geo:0,0
END:VEVENT
BEGIN:VTIMEZONE
TZID:America/Indiana/Indianapolis
X-LIC-LOCATION:America/Indiana/Indianapolis
BEGIN:DAYLIGHT
DTSTART:20230312T030000
TZOFFSETFROM:-0500
TZOFFSETTO:-0400
TZNAME:EDT
END:DAYLIGHT
END:VTIMEZONE
END:VCALENDAR