BEGIN:VCALENDAR
VERSION:2.0
PRODID:-//wp-events-plugin.com//7.2.3.1//EN
TZID:America/Indiana/Indianapolis
X-WR-TIMEZONE:America/Indiana/Indianapolis
BEGIN:VEVENT
UID:3103@inspiresmall.biz
DTSTART;TZID=America/Indiana/Indianapolis:20240322T083000
DTEND;TZID=America/Indiana/Indianapolis:20240322T093000
DTSTAMP:20240314T025337Z
URL:https://www.inspiresmall.biz/events/open-networking-at-the-haverstick-
 friday-march-22-2024-830-am-945-am/
SUMMARY:Open Networking at The Haverstick - Friday March 22\, 2024- 8:30 am
 - 9:45 am!
DESCRIPTION:Welcome to Open Networking at The Haverstick sponsored by the W
 estfield Networking Group ! If you are looking for a networking group that
 ’s all about relationships please join us! We are a servant-minded group
 \, looking to enrich not only the lives (and businesses) of our members\, 
 but also our community. As committed and passionate business leaders\, we 
 are here to help you grow.\n\nWe look forward to meeting you at The Havers
 tick!!\n\n\n
ATTACH;FMTTYPE=image/jpeg:https://i0.wp.com/www.inspiresmall.biz/wp-conten
 t/uploads/2024/03/3-22-24-The-Haverstick-TTR-Open-Networking-1.png?fit=128
 0%2C720&ssl=1
CATEGORIES:Networking
LOCATION:The Haverstick\, 9111 Haverstick Rd\, Indianapolis\, IN\, 46240\, 
 United States
X-APPLE-STRUCTURED-LOCATION;VALUE=URI;X-ADDRESS=9111 Haverstick Rd\, Indian
 apolis\, IN\, 46240\, United States;X-APPLE-RADIUS=100;X-TITLE=The Haverst
 ick:geo:0,0
END:VEVENT
BEGIN:VTIMEZONE
TZID:America/Indiana/Indianapolis
X-LIC-LOCATION:America/Indiana/Indianapolis
BEGIN:DAYLIGHT
DTSTART:20240310T030000
TZOFFSETFROM:-0500
TZOFFSETTO:-0400
TZNAME:EDT
END:DAYLIGHT
END:VTIMEZONE
END:VCALENDAR