BEGIN:VCALENDAR
VERSION:2.0
PRODID:-//wp-events-plugin.com//7.2.3.1//EN
TZID:America/Indiana/Indianapolis
X-WR-TIMEZONE:America/Indiana/Indianapolis
BEGIN:VEVENT
UID:3238@inspiresmall.biz
DTSTART;TZID=America/Indiana/Indianapolis:20251204T140000
DTEND;TZID=America/Indiana/Indianapolis:20251204T150000
DTSTAMP:20250929T150842Z
URL:https://www.inspiresmall.biz/events/keystone-business-connections-3-20
 25-12-04/
SUMMARY:Keystone Business Connections
DESCRIPTION:Kick off each month with Keystone Business Connections\, a dyna
 mic networking event that meets on the first Thursday of every month. 
ATTACH;FMTTYPE=image/jpeg:https://i0.wp.com/www.inspiresmall.biz/wp-conten
 t/uploads/2024/12/2024-10-kbc-image.jpg?fit=1920%2C1080&ssl=1
CATEGORIES:Networking
LOCATION:https://www.inspiresmall.biz/keystone/
END:VEVENT
BEGIN:VTIMEZONE
TZID:America/Indiana/Indianapolis
X-LIC-LOCATION:America/Indiana/Indianapolis
BEGIN:STANDARD
DTSTART:20251102T010000
TZOFFSETFROM:-0400
TZOFFSETTO:-0500
TZNAME:EST
END:STANDARD
END:VTIMEZONE
END:VCALENDAR