BEGIN:VCALENDAR
VERSION:2.0
PRODID:-//wp-events-plugin.com//7.2.3.1//EN
TZID:America/Indiana/Indianapolis
X-WR-TIMEZONE:America/Indiana/Indianapolis
BEGIN:VEVENT
UID:3583@inspiresmall.biz
DTSTART;TZID=America/Indiana/Indianapolis:20250521T100000
DTEND;TZID=America/Indiana/Indianapolis:20250521T110000
DTSTAMP:20250424T163207Z
URL:https://www.inspiresmall.biz/events/keep-your-profile-fresh-member-dir
 ectory-workshop/
SUMMARY:Keep Your Profile Fresh – Member Directory Workshop!
DESCRIPTION:We’re inviting all INSPIREsmall.biz members to join us for a 
 special online workshop designed to help you update and optimize your memb
 er profile.
ATTACH;FMTTYPE=image/jpeg:https://i0.wp.com/www.inspiresmall.biz/wp-conten
 t/uploads/2024/07/2024-07-follow-up-connections.jpg?fit=1920%2C1080&ssl=1
CATEGORIES:Networking,Webinar
END:VEVENT
BEGIN:VTIMEZONE
TZID:America/Indiana/Indianapolis
X-LIC-LOCATION:America/Indiana/Indianapolis
BEGIN:DAYLIGHT
DTSTART:20250309T030000
TZOFFSETFROM:-0500
TZOFFSETTO:-0400
TZNAME:EDT
END:DAYLIGHT
END:VTIMEZONE
END:VCALENDAR