BEGIN:VCALENDAR
VERSION:2.0
PRODID:-//wp-events-plugin.com//7.2.3.1//EN
TZID:America/Indiana/Indianapolis
X-WR-TIMEZONE:America/Indiana/Indianapolis
BEGIN:VEVENT
UID:3341@inspiresmall.biz
DTSTART;TZID=America/Indiana/Indianapolis:20251210T160000
DTEND;TZID=America/Indiana/Indianapolis:20251210T180000
DTSTAMP:20251105T162517Z
URL:https://www.inspiresmall.biz/events/inspiresmall-biz-holiday-celebrati
 on-2026-preview-party/
SUMMARY:INSPIREsmall.biz Holiday Celebration & 2026 Preview Party
DESCRIPTION:Celebrate the season and get a sneak peek at what’s coming in
  2026 at the INSPIREsmall.biz Holiday Celebration & 2026 Preview Party!
ATTACH;FMTTYPE=image/jpeg:https://i0.wp.com/www.inspiresmall.biz/wp-conten
 t/uploads/2024/12/2024-12-holiday-party-2025.jpg?fit=1920%2C1080&ssl=1
CATEGORIES:Networking
LOCATION:Terra Gaucha Brazilian Steakhouse\, 8487 Union Chapel Rd\, Indiana
 polis\, Indianapolis\, Indiana\, 46240\, United States
X-APPLE-STRUCTURED-LOCATION;VALUE=URI;X-ADDRESS=8487 Union Chapel Rd\, Indi
 anapolis\, Indianapolis\, Indiana\, 46240\, United States;X-APPLE-RADIUS=1
 00;X-TITLE=Terra Gaucha Brazilian Steakhouse:geo:0,0
END:VEVENT
BEGIN:VTIMEZONE
TZID:America/Indiana/Indianapolis
X-LIC-LOCATION:America/Indiana/Indianapolis
BEGIN:STANDARD
DTSTART:20251102T010000
TZOFFSETFROM:-0400
TZOFFSETTO:-0500
TZNAME:EST
END:STANDARD
END:VTIMEZONE
END:VCALENDAR