BEGIN:VCALENDAR
VERSION:2.0
PRODID:-//wp-events-plugin.com//7.2.3.1//EN
TZID:America/Indiana/Indianapolis
X-WR-TIMEZONE:America/Indiana/Indianapolis
BEGIN:VEVENT
UID:3182@inspiresmall.biz
DTSTART;TZID=America/Indiana/Indianapolis:20241213T160000
DTEND;TZID=America/Indiana/Indianapolis:20241213T180000
DTSTAMP:20241204T201946Z
URL:https://www.inspiresmall.biz/events/inspiresmall-biz-2025-preview-part
 y/
SUMMARY:INSPIREsmall.biz 2025 Preview Party
DESCRIPTION:Kick off the new year with connections\, excitement\, and exclu
 sive insights into the future of INSPIREsmall.biz! Join us for an evening 
 of networking and the big reveal of our 2025 and 2026 events and content c
 alendars. This is your chance to get an inside look at upcoming opportunit
 ies\, workshops\, and resources we’ve designed to help you elevate your 
 business and expand your network. Connect with like-minded entrepreneurs\,
  meet new faces\, and celebrate the road ahead!\nPresented By\n 
ATTACH;FMTTYPE=image/jpeg:https://i0.wp.com/www.inspiresmall.biz/wp-conten
 t/uploads/2024/11/2024-11-2025-preview-image.png?fit=1587%2C2245&ssl=1
CATEGORIES:Business,Networking
LOCATION:Nexus Impact Center\, 9511 Agnola CT\, Suite 200\, Indianapolis \,
  Indiana\, 46268\, United States
X-APPLE-STRUCTURED-LOCATION;VALUE=URI;X-ADDRESS=9511 Agnola CT\, Suite 200\
 , Indianapolis \, Indiana\, 46268\, United States;X-APPLE-RADIUS=100;X-TIT
 LE=Nexus Impact Center:geo:0,0
END:VEVENT
BEGIN:VTIMEZONE
TZID:America/Indiana/Indianapolis
X-LIC-LOCATION:America/Indiana/Indianapolis
BEGIN:STANDARD
DTSTART:20241103T010000
TZOFFSETFROM:-0400
TZOFFSETTO:-0500
TZNAME:EST
END:STANDARD
END:VTIMEZONE
END:VCALENDAR