BEGIN:VCALENDAR
VERSION:2.0
PRODID:-//wp-events-plugin.com//7.2.3.1//EN
TZID:America/Indiana/Indianapolis
X-WR-TIMEZONE:America/Indiana/Indianapolis
BEGIN:VEVENT
UID:3585@inspiresmall.biz
DTSTART;TZID=America/Indiana/Indianapolis:20250528T140000
DTEND;TZID=America/Indiana/Indianapolis:20250528T150000
DTSTAMP:20250522T172625Z
URL:https://www.inspiresmall.biz/events/i-could-sell-more-if/
SUMMARY:I Could Sell More If...
DESCRIPTION:You know the feeling:\n• You’ve got leads\, but deals stall
  out.\n• Prospects ghost you after “great” conversations.\n• You
 ’re discounting more than you’d like just to close.\n• The cycle dra
 gs on… and on… and on.\n• You keep hearing “maybe\,” but never 
 “no”—and rarely “yes.”\n\nIf you’ve ever thought\, “I could 
 sell more if it weren’t for my prospects\,” this session is for you.\n
 In this webinar\, you’ll walk away with:\n• A clear diagnosis of what
 ’s actually causing friction in your sales process\n• Tools to shift c
 onversations toward honesty\, action\, and outcomes\n• Clarity of the hi
 dden weaknesses that could be holding you back (even if your process is so
 lid)\n\nThis isn’t fluff or motivational hype. It’s a practical reset 
 for sellers\, founders\, and leaders who are ready to take control of the 
 sales conversation—and get back to closing business without all the dram
 a.\n\nIf you’re serious about selling more with less friction\, save you
 r seat now.
CATEGORIES:Business
LOCATION:https://lushin.zoom.us/j/9504551478
END:VEVENT
BEGIN:VTIMEZONE
TZID:America/Indiana/Indianapolis
X-LIC-LOCATION:America/Indiana/Indianapolis
BEGIN:DAYLIGHT
DTSTART:20250309T030000
TZOFFSETFROM:-0500
TZOFFSETTO:-0400
TZNAME:EDT
END:DAYLIGHT
END:VTIMEZONE
END:VCALENDAR