BEGIN:VCALENDAR
VERSION:2.0
PRODID:-//wp-events-plugin.com//7.2.3.1//EN
TZID:America/Indiana/Indianapolis
X-WR-TIMEZONE:America/Indiana/Indianapolis
BEGIN:VEVENT
UID:2046@inspiresmall.biz
DTSTART;TZID=America/Indiana/Indianapolis:20230829T100000
DTEND;TZID=America/Indiana/Indianapolis:20230829T120000
DTSTAMP:20230222T201443Z
URL:https://www.inspiresmall.biz/events/growing-your-youtube-channel-works
 hop/
SUMMARY:Growing Your YouTube Channel Workshop
DESCRIPTION:Are you looking for ideas to grow your YouTube channel? Join us
  for this webinar on how you can make simple changes to increase the audie
 nce.
ATTACH;FMTTYPE=image/jpeg:https://i0.wp.com/www.inspiresmall.biz/wp-conten
 t/uploads/2022/12/2022-11-17-Growing-Your-YouTube-Channel.jpg?fit=1920%2C1
 080&ssl=1
CATEGORIES:Business
LOCATION:Refinery46\, 2201 E 46th St\, Indianapolis\, Indiana\, 46205\, Uni
 ted States
X-APPLE-STRUCTURED-LOCATION;VALUE=URI;X-ADDRESS=2201 E 46th St\, Indianapol
 is\, Indiana\, 46205\, United States;X-APPLE-RADIUS=100;X-TITLE=Refinery46
 :geo:0,0
END:VEVENT
BEGIN:VTIMEZONE
TZID:America/Indiana/Indianapolis
X-LIC-LOCATION:America/Indiana/Indianapolis
BEGIN:DAYLIGHT
DTSTART:20230312T030000
TZOFFSETFROM:-0500
TZOFFSETTO:-0400
TZNAME:EDT
END:DAYLIGHT
END:VTIMEZONE
END:VCALENDAR