BEGIN:VCALENDAR
VERSION:2.0
PRODID:-//wp-events-plugin.com//7.2.3.1//EN
TZID:America/Indiana/Indianapolis
X-WR-TIMEZONE:America/Indiana/Indianapolis
BEGIN:VEVENT
UID:3400@inspiresmall.biz
DTSTART;TZID=America/Indiana/Indianapolis:20250316T140000
DTEND;TZID=America/Indiana/Indianapolis:20250316T163000
DTSTAMP:20250218T154746Z
URL:https://www.inspiresmall.biz/events/greenwood-and-franklin-kiwanis-clu
 bs-fundraiser/
SUMMARY:Greenwood and Franklin Kiwanis Clubs Fundraiser
DESCRIPTION:An afternoon with 45 RPM\, a benefit concert to raise money for
  the Riley Hospital for Children\, scholarships and youth programs our clu
 bs support. For sponsorship and ticket information call/text Bill Hammond 
 at 317-408-5513.
CATEGORIES:Charity &amp; Causes
LOCATION:Historic Artcraft Theater\, 57 N. Main Street\, Franklin\, Indiana
 \, 46131\, United States
X-APPLE-STRUCTURED-LOCATION;VALUE=URI;X-ADDRESS=57 N. Main Street\, Frankli
 n\, Indiana\, 46131\, United States;X-APPLE-RADIUS=100;X-TITLE=Historic Ar
 tcraft Theater:geo:0,0
END:VEVENT
BEGIN:VTIMEZONE
TZID:America/Indiana/Indianapolis
X-LIC-LOCATION:America/Indiana/Indianapolis
BEGIN:DAYLIGHT
DTSTART:20250309T030000
TZOFFSETFROM:-0500
TZOFFSETTO:-0400
TZNAME:EDT
END:DAYLIGHT
END:VTIMEZONE
END:VCALENDAR