BEGIN:VCALENDAR
VERSION:2.0
PRODID:-//wp-events-plugin.com//7.2.3.1//EN
TZID:America/Indiana/Indianapolis
X-WR-TIMEZONE:America/Indiana/Indianapolis
BEGIN:VEVENT
UID:3597@inspiresmall.biz
DTSTART;TZID=America/Indiana/Indianapolis:20250827T093000
DTEND;TZID=America/Indiana/Indianapolis:20250827T103000
DTSTAMP:20250819T180445Z
URL:https://www.inspiresmall.biz/events/givers-gain-networking-monthly-get
 -together-3/
SUMMARY:Givers Gain Networking Monthly Get Together
DESCRIPTION:oin us at Hotcakes Emporium Pancake House\, 4705 E 96th Street 
 Suite 47 \, Indianapolis\, IN 46240 from 9:30 am- 10:30 am!\n\nConnect wit
 h like-minded professionals\, share your business goals\, and learn from o
 thers in a relaxed and friendly atmosphere.\n\nThis event is a great oppor
 tunity to expand your network and build valuable relationships. Don’t mi
 ss out on this chance to gain new connections and give support to fellow e
 ntrepreneurs.\n\nSee you on Wednesday \, August 27 from 9:30 AM – 10:30 
 AM !
ATTACH;FMTTYPE=image/jpeg:https://i0.wp.com/www.inspiresmall.biz/wp-conten
 t/uploads/2025/08/Givers-Gain-Get-Together-8.-27.25-Canva-Hotcakes.png?fit
 =1920%2C1080&ssl=1
CATEGORIES:Business,Charity &amp; Causes,Community,Networking
LOCATION:Hotcakes Emporium Pancake House\, 4705 E 96th Street Suite 47\, In
 dianapolis\, IN\, 46240\, United States
X-APPLE-STRUCTURED-LOCATION;VALUE=URI;X-ADDRESS=4705 E 96th Street Suite 47
 \, Indianapolis\, IN\, 46240\, United States;X-APPLE-RADIUS=100;X-TITLE=Ho
 tcakes Emporium Pancake House:geo:0,0
END:VEVENT
BEGIN:VTIMEZONE
TZID:America/Indiana/Indianapolis
X-LIC-LOCATION:America/Indiana/Indianapolis
BEGIN:DAYLIGHT
DTSTART:20250309T030000
TZOFFSETFROM:-0500
TZOFFSETTO:-0400
TZNAME:EDT
END:DAYLIGHT
END:VTIMEZONE
END:VCALENDAR