BEGIN:VCALENDAR
VERSION:2.0
PRODID:-//wp-events-plugin.com//7.2.3.1//EN
TZID:America/Indiana/Indianapolis
X-WR-TIMEZONE:America/Indiana/Indianapolis
BEGIN:VEVENT
UID:3576@inspiresmall.biz
DTSTART;TZID=America/Indiana/Indianapolis:20250515T090000
DTEND;TZID=America/Indiana/Indianapolis:20250515T153000
DTSTAMP:20250421T142558Z
URL:https://www.inspiresmall.biz/events/dementia-friendly-indiana-communit
 ies-state-conference/
SUMMARY:Dementia Friendly Indiana Communities State Conference
DESCRIPTION:We are pleased to invite you to the exciting Dementia Friendly 
 Indiana Communities State Conference. Join others from around the state of
  Indiana to engage in conversations about dementia care\, research\, effor
 ts\, and more. This event is for caregivers\, patients\, care providers\, 
 and senior industry representatives.\n\nWe are excited to offer an excitin
 g keynote speaker and several breakout rooms for you to engage with topics
  that are relevant and interesting to you. There will be many vendors to p
 rovide information and resources related to all areas of senior care\, not
  just dementia resources.\n\nIf you are unable to pay using a credit card\
 , please reach out to Amanda at aoporta@iuhealth.org.
CATEGORIES:Charity &amp; Causes,Community,Health
LOCATION:Heartland Church\, 14900 E. 126th St.\, Fishers\, IN\, 46037\, Uni
 ted States
X-APPLE-STRUCTURED-LOCATION;VALUE=URI;X-ADDRESS=14900 E. 126th St.\, Fisher
 s\, IN\, 46037\, United States;X-APPLE-RADIUS=100;X-TITLE=Heartland Church
 :geo:0,0
END:VEVENT
BEGIN:VTIMEZONE
TZID:America/Indiana/Indianapolis
X-LIC-LOCATION:America/Indiana/Indianapolis
BEGIN:DAYLIGHT
DTSTART:20250309T030000
TZOFFSETFROM:-0500
TZOFFSETTO:-0400
TZNAME:EDT
END:DAYLIGHT
END:VTIMEZONE
END:VCALENDAR