BEGIN:VCALENDAR
VERSION:2.0
PRODID:-//wp-events-plugin.com//7.2.3.1//EN
TZID:America/Indiana/Indianapolis
X-WR-TIMEZONE:America/Indiana/Indianapolis
BEGIN:VEVENT
UID:3183@inspiresmall.biz
DTSTART;TZID=America/Indiana/Indianapolis:20241210T091500
DTEND;TZID=America/Indiana/Indianapolis:20241210T101500
DTSTAMP:20241108T203826Z
URL:https://www.inspiresmall.biz/events/bizbuilders-holiday-visitor-day-tu
 esday-dec-10-in-person-915-am-1015-am/
SUMMARY:BizBuilder’s Holiday Visitor Day-Tuesday\, Dec 10\, In Person\, 9
 :15 am- 10:15 am!!
DESCRIPTION:It’s the holiday season and time to get out and network!\nIf 
 you are looking for a networking group that’s is anything but ordinary\,
  please join us!\nWe are a charismatic and servant-minded group\, looking 
 to enrich not only the lives (and businesses) of our members\, but also ou
 r community. As committed and passionate business leaders\, we are here to
  help you grow.\nWe are an industry-exclusive networking group\, so some p
 opular positions may already be filled. However\, we can connect you to ot
 her groups that may have openings.\nWe are VERY focused on growing each ot
 her’s businesses and promoting our businesses.\nWe look forward to meeti
 ng you!\nYou Must Register Here Now\n\nhttps://www.eventbrite.com/e/bizbui
 lders-holiday-visitor-day-tickets-1076161942339
ATTACH;FMTTYPE=image/jpeg:https://i0.wp.com/www.inspiresmall.biz/wp-conten
 t/uploads/2024/11/Biz-B-VD-Flyer-12-10-24-EB-1280-x-720-px-wQR.png?fit=128
 0%2C720&ssl=1
CATEGORIES:Business,Holiday,Networking
LOCATION:Meridian Title\, 9885 East 116th Street\, #600\, Fishers\, In\, 46
 037\, United States
X-APPLE-STRUCTURED-LOCATION;VALUE=URI;X-ADDRESS=9885 East 116th Street\, #6
 00\, Fishers\, In\, 46037\, United States;X-APPLE-RADIUS=100;X-TITLE=Merid
 ian Title:geo:0,0
END:VEVENT
BEGIN:VTIMEZONE
TZID:America/Indiana/Indianapolis
X-LIC-LOCATION:America/Indiana/Indianapolis
BEGIN:STANDARD
DTSTART:20241103T010000
TZOFFSETFROM:-0400
TZOFFSETTO:-0500
TZNAME:EST
END:STANDARD
END:VTIMEZONE
END:VCALENDAR